BEGIN:VCALENDAR
VERSION:2.0
PRODID:-//Worthington Libraries//NONSGML Calendar//EN

BEGIN:VTIMEZONE
TZID:America/New_York
X-LIC-LOCATION:America/New_York
BEGIN:DAYLIGHT
TZOFFSETFROM:-0500
TZOFFSETTO:-0400
TZNAME:EDT
DTSTART:19700308T020000
RRULE:FREQ=YEARLY;BYMONTH=3;BYDAY=2SU
END:DAYLIGHT
BEGIN:STANDARD
TZOFFSETFROM:-0400
TZOFFSETTO:-0500
TZNAME:EST
DTSTART:19701101T020000
RRULE:FREQ=YEARLY;BYMONTH=11;BYDAY=1SU
END:STANDARD
END:VTIMEZONE

BEGIN:VEVENT

UID:20260507T083000-290789@worthingtonlibraries.org

DESCRIPTION:All meetings of the Worthington Libraries Board of Trustees and its committees are open to the public. \r\nRecommended for: Adults\r\n--\r\nVisit our online calendar to see the most up-to-date information about this event: https://www.worthingtonlibraries.org/calendar/20260507/personnel-committee-meeting 
DTSTAMP;TZID=US-Eastern:20260421T193511Z


DTSTART;TZID=America/New_York:20260507T083000
DTEND;TZID=America/New_York:20260507T093000


LOCATION:Old Worthington Library - 820 High Street Worthington OH 43085


SUMMARY:Personnel Committee Meeting
END:VEVENT
END:VCALENDAR
