BEGIN:VCALENDAR
VERSION:2.0
PRODID:-//Worthington Libraries//NONSGML Calendar//EN

BEGIN:VTIMEZONE
TZID:America/New_York
X-LIC-LOCATION:America/New_York
BEGIN:DAYLIGHT
TZOFFSETFROM:-0500
TZOFFSETTO:-0400
TZNAME:EDT
DTSTART:19700308T020000
RRULE:FREQ=YEARLY;BYMONTH=3;BYDAY=2SU
END:DAYLIGHT
BEGIN:STANDARD
TZOFFSETFROM:-0400
TZOFFSETTO:-0500
TZNAME:EST
DTSTART:19701101T020000
RRULE:FREQ=YEARLY;BYMONTH=11;BYDAY=1SU
END:STANDARD
END:VTIMEZONE

BEGIN:VEVENT

UID:20260606T093000-290790@worthingtonlibraries.org

DESCRIPTION:Want a book club with a little more freedom? Choose a book from among our suggested titles, or a similarly themed one of your own, and come ready to share your thoughts and get book recommendations. Theme: Plays Suggested titles:  A Raisin in the Sun by Lorraine Hansberry Death of a Salesman by Arthur Miller Twelve Angry Men by Reginald Rose A Midsummer Night’s Dream by William Shakespeare Oedipus Trilogy by Sophocles (Bryan Doerries translation)  \r\nRecommended for: Adults\r\n--\r\nVisit our online calendar to see the most up-to-date information about this event: https://www.worthingtonlibraries.org/calendar/20260606/expanding-horizons-reading-challenge-book-club 
DTSTAMP;TZID=US-Eastern:20260422T173436Z


DTSTART;TZID=America/New_York:20260606T093000
DTEND;TZID=America/New_York:20260606T110000


LOCATION:Worthington Park Library - 1389 Worthington Centre Drive Worthington OH 43085


SUMMARY:Expanding Horizons: A Reading Challenge Book Club
END:VEVENT
END:VCALENDAR
