BEGIN:VCALENDAR
VERSION:2.0
PRODID:-//Worthington Libraries//NONSGML Calendar//EN

BEGIN:VTIMEZONE
TZID:America/New_York
X-LIC-LOCATION:America/New_York
BEGIN:DAYLIGHT
TZOFFSETFROM:-0500
TZOFFSETTO:-0400
TZNAME:EDT
DTSTART:19700308T020000
RRULE:FREQ=YEARLY;BYMONTH=3;BYDAY=2SU
END:DAYLIGHT
BEGIN:STANDARD
TZOFFSETFROM:-0400
TZOFFSETTO:-0500
TZNAME:EST
DTSTART:19701101T020000
RRULE:FREQ=YEARLY;BYMONTH=11;BYDAY=1SU
END:STANDARD
END:VTIMEZONE

BEGIN:VEVENT

UID:20260715T180000-290794@worthingtonlibraries.org

DESCRIPTION:Whether you'd prefer a martini with your memoir, a Riesling with your romance or a brew with your biography, join us for a "spirit"ed discussion of some great books! Selected title: Atmosphere by Taylor Jenkins Reid \r\nRecommended for: Adults\r\n--\r\nVisit our online calendar to see the most up-to-date information about this event: https://www.worthingtonlibraries.org/calendar/20260715/literary-libations-book-discussion-group 
DTSTAMP;TZID=US-Eastern:20260422T174303Z


DTSTART;TZID=America/New_York:20260715T180000
DTEND;TZID=America/New_York:20260715T190000


LOCATION: The Pub Out Back 679 High St C Worthington OH 43085


SUMMARY:Literary Libations: A Book Discussion Group
END:VEVENT
END:VCALENDAR
