BEGIN:VCALENDAR
VERSION:2.0
PRODID:-//Worthington Libraries//NONSGML Calendar//EN

BEGIN:VTIMEZONE
TZID:America/New_York
X-LIC-LOCATION:America/New_York
BEGIN:DAYLIGHT
TZOFFSETFROM:-0500
TZOFFSETTO:-0400
TZNAME:EDT
DTSTART:19700308T020000
RRULE:FREQ=YEARLY;BYMONTH=3;BYDAY=2SU
END:DAYLIGHT
BEGIN:STANDARD
TZOFFSETFROM:-0400
TZOFFSETTO:-0500
TZNAME:EST
DTSTART:19701101T020000
RRULE:FREQ=YEARLY;BYMONTH=11;BYDAY=1SU
END:STANDARD
END:VTIMEZONE

BEGIN:VEVENT

UID:20260831T193000-290799@worthingtonlibraries.org

DESCRIPTION:Talk, tempt and taste during this book discussion group that's all about food! To participate, prepare a recipe from one of the selected cookbooks and, if you're feeling friendly, bring in samples. We'll talk about what it's like to cook by the book! Selected title (choose two):  108 Asian Cookies: Not-Too-Sweet Treats from a Third-Culture Kitchen by Kat Lieu Sesame, Soy, Spice: 90 Asian-ish Vegan and Gluten-Free Recipes to Reconnect, Root, and Restore by Remy Morimoto Park Bad B*tch in the Kitch: Craveable Asian Recipes to Ditch the Takeout by Cassie Yeung  \r\nRecommended for: Adults\r\n--\r\nVisit our online calendar to see the most up-to-date information about this event: https://www.worthingtonlibraries.org/calendar/20260831/lets-dish-cookbook-club 
DTSTAMP;TZID=US-Eastern:20260422T173710Z


DTSTART;TZID=America/New_York:20260831T193000
DTEND;TZID=America/New_York:20260831T203000


LOCATION:Northwest Library - 2280 Hard Road Columbus OH 43235


SUMMARY:Let's Dish: A Cookbook Club
END:VEVENT
END:VCALENDAR
